BEGIN:VCALENDAR
VERSION:2.0
PRODID:-//NVCCF - ECPv6.15.17.1//NONSGML v1.0//EN
CALSCALE:GREGORIAN
METHOD:PUBLISH
X-ORIGINAL-URL:https://nvccf.org
X-WR-CALDESC:Events for NVCCF
REFRESH-INTERVAL;VALUE=DURATION:PT1H
X-Robots-Tag:noindex
X-PUBLISHED-TTL:PT1H
BEGIN:VTIMEZONE
TZID:America/Los_Angeles
BEGIN:DAYLIGHT
TZOFFSETFROM:-0800
TZOFFSETTO:-0700
TZNAME:PDT
DTSTART:20220313T100000
END:DAYLIGHT
BEGIN:STANDARD
TZOFFSETFROM:-0700
TZOFFSETTO:-0800
TZNAME:PST
DTSTART:20221106T090000
END:STANDARD
BEGIN:DAYLIGHT
TZOFFSETFROM:-0800
TZOFFSETTO:-0700
TZNAME:PDT
DTSTART:20230312T100000
END:DAYLIGHT
BEGIN:STANDARD
TZOFFSETFROM:-0700
TZOFFSETTO:-0800
TZNAME:PST
DTSTART:20231105T090000
END:STANDARD
BEGIN:DAYLIGHT
TZOFFSETFROM:-0800
TZOFFSETTO:-0700
TZNAME:PDT
DTSTART:20240310T100000
END:DAYLIGHT
BEGIN:STANDARD
TZOFFSETFROM:-0700
TZOFFSETTO:-0800
TZNAME:PST
DTSTART:20241103T090000
END:STANDARD
BEGIN:DAYLIGHT
TZOFFSETFROM:-0800
TZOFFSETTO:-0700
TZNAME:PDT
DTSTART:20250309T100000
END:DAYLIGHT
BEGIN:STANDARD
TZOFFSETFROM:-0700
TZOFFSETTO:-0800
TZNAME:PST
DTSTART:20251102T090000
END:STANDARD
BEGIN:DAYLIGHT
TZOFFSETFROM:-0800
TZOFFSETTO:-0700
TZNAME:PDT
DTSTART:20260308T100000
END:DAYLIGHT
BEGIN:STANDARD
TZOFFSETFROM:-0700
TZOFFSETTO:-0800
TZNAME:PST
DTSTART:20261101T090000
END:STANDARD
END:VTIMEZONE
BEGIN:VEVENT
DTSTART;TZID=America/Los_Angeles:20250806T093000
DTEND;TZID=America/Los_Angeles:20250806T120000
DTSTAMP:20260424T035035
CREATED:20250709T231139Z
LAST-MODIFIED:20250709T231139Z
UID:10004909-1754472600-1754481600@nvccf.org
SUMMARY:Movie Day ~ MUST RSVP!
DESCRIPTION:
URL:https://nvccf.org/event/movie-day-must-rsvp-2/
LOCATION:The Galaxy Theatre at The Cannery\, 2121 E. Craig Road\, North Las Vegas\, NV\, 89030\, United States
CATEGORIES:Project A.R.K.,The Caring Place
ATTACH;FMTTYPE=image/jpeg:https://nvccf.org/wp-content/uploads/2025/07/Movie-Day-2025-Flyer.jpg
ORGANIZER;CN="Martha Gonzalez":MAILTO:martha@nvccf.org
END:VEVENT
BEGIN:VEVENT
DTSTART;TZID=America/Los_Angeles:20240807T093000
DTEND;TZID=America/Los_Angeles:20240807T120000
DTSTAMP:20260424T035035
CREATED:20240703T201002Z
LAST-MODIFIED:20240703T202040Z
UID:10004603-1723023000-1723032000@nvccf.org
SUMMARY:Movie Day ~ MUST RSVP!
DESCRIPTION:
URL:https://nvccf.org/event/movie-day-must-rsvp/
LOCATION:The Galaxy Theatre at The Cannery\, 2121 E. Craig Road\, North Las Vegas\, NV\, 89030\, United States
CATEGORIES:Project A.R.K.,The Caring Place
ATTACH;FMTTYPE=image/jpeg:https://nvccf.org/wp-content/uploads/2024/07/Movie-Day-Flyer-2024.jpg
ORGANIZER;CN="Nikki":MAILTO:nikki@nvccf.org
END:VEVENT
BEGIN:VEVENT
DTSTART;TZID=America/Los_Angeles:20230802T090000
DTEND;TZID=America/Los_Angeles:20230802T130000
DTSTAMP:20260424T035035
CREATED:20230627T180715Z
LAST-MODIFIED:20230705T222850Z
UID:10004374-1690966800-1690981200@nvccf.org
SUMMARY:Movie Day!
DESCRIPTION:
URL:https://nvccf.org/event/movie-day/
LOCATION:The Galaxy Theatre at The Cannery\, 2121 E. Craig Road\, North Las Vegas\, NV\, 89030\, United States
CATEGORIES:Project A.R.K.
ATTACH;FMTTYPE=image/jpeg:https://nvccf.org/wp-content/uploads/2023/06/Movie-Day.jpg
ORGANIZER;CN="Nicki Klein-Richter":MAILTO:nicki@nvccf.org
END:VEVENT
END:VCALENDAR