BEGIN:VCALENDAR
VERSION:2.0
PRODID:-//NVCCF - ECPv6.15.17.1//NONSGML v1.0//EN
CALSCALE:GREGORIAN
METHOD:PUBLISH
X-WR-CALNAME:NVCCF
X-ORIGINAL-URL:https://nvccf.org
X-WR-CALDESC:Events for NVCCF
REFRESH-INTERVAL;VALUE=DURATION:PT1H
X-Robots-Tag:noindex
X-PUBLISHED-TTL:PT1H
BEGIN:VTIMEZONE
TZID:America/Los_Angeles
BEGIN:DAYLIGHT
TZOFFSETFROM:-0800
TZOFFSETTO:-0700
TZNAME:PDT
DTSTART:20220313T100000
END:DAYLIGHT
BEGIN:STANDARD
TZOFFSETFROM:-0700
TZOFFSETTO:-0800
TZNAME:PST
DTSTART:20221106T090000
END:STANDARD
BEGIN:DAYLIGHT
TZOFFSETFROM:-0800
TZOFFSETTO:-0700
TZNAME:PDT
DTSTART:20230312T100000
END:DAYLIGHT
BEGIN:STANDARD
TZOFFSETFROM:-0700
TZOFFSETTO:-0800
TZNAME:PST
DTSTART:20231105T090000
END:STANDARD
BEGIN:DAYLIGHT
TZOFFSETFROM:-0800
TZOFFSETTO:-0700
TZNAME:PDT
DTSTART:20240310T100000
END:DAYLIGHT
BEGIN:STANDARD
TZOFFSETFROM:-0700
TZOFFSETTO:-0800
TZNAME:PST
DTSTART:20241103T090000
END:STANDARD
BEGIN:DAYLIGHT
TZOFFSETFROM:-0800
TZOFFSETTO:-0700
TZNAME:PDT
DTSTART:20250309T100000
END:DAYLIGHT
BEGIN:STANDARD
TZOFFSETFROM:-0700
TZOFFSETTO:-0800
TZNAME:PST
DTSTART:20251102T090000
END:STANDARD
BEGIN:DAYLIGHT
TZOFFSETFROM:-0800
TZOFFSETTO:-0700
TZNAME:PDT
DTSTART:20260308T100000
END:DAYLIGHT
BEGIN:STANDARD
TZOFFSETFROM:-0700
TZOFFSETTO:-0800
TZNAME:PST
DTSTART:20261101T090000
END:STANDARD
END:VTIMEZONE
BEGIN:VEVENT
DTSTART;TZID=America/Los_Angeles:20250628T120000
DTEND;TZID=America/Los_Angeles:20250628T133000
DTSTAMP:20260419T105332
CREATED:20250623T223527Z
LAST-MODIFIED:20250623T223528Z
UID:10004888-1751112000-1751117400@nvccf.org
SUMMARY:After\, After CAMP Ice Skating Party ~ MUST RSVP!
DESCRIPTION:
URL:https://nvccf.org/event/after-after-camp-ice-skating-party-must-rsvp/
LOCATION:City National Arena\, 1550 S. Pavilion Center Dr.\, Las Vegas\, NV\, 89135\, United States
CATEGORIES:Camp,Project A.R.K.,The Caring Place
ATTACH;FMTTYPE=image/jpeg:https://nvccf.org/wp-content/uploads/2025/06/Skating-After-after-party.zip-1.jpeg
ORGANIZER;CN="Jessica Anderson":MAILTO:jess@nvccf.org
END:VEVENT
BEGIN:VEVENT
DTSTART;TZID=America/Los_Angeles:20250622T110000
DTEND;TZID=America/Los_Angeles:20250622T130000
DTSTAMP:20260419T105332
CREATED:20250604T022339Z
LAST-MODIFIED:20250604T022339Z
UID:10004887-1750590000-1750597200@nvccf.org
SUMMARY:Camp Cartwheel Roundup After Party ~ MUST RSVP!
DESCRIPTION:
URL:https://nvccf.org/event/camp-cartwheel-roundup-after-party-must-rsvp/
LOCATION:Speedway Readiness Center\, 7005 N. Hollywood Blvd.\, Las Vegas\, 89115\, United States
CATEGORIES:Camp,Project A.R.K.,The Caring Place
ATTACH;FMTTYPE=image/jpeg:https://nvccf.org/wp-content/uploads/2025/06/CC-AFTER-PARTY-2025-ENG.jpg
ORGANIZER;CN="Jessica Anderson":MAILTO:jess@nvccf.org
END:VEVENT
BEGIN:VEVENT
DTSTART;TZID=America/Los_Angeles:20240706T100000
DTEND;TZID=America/Los_Angeles:20240706T133000
DTSTAMP:20260419T105332
CREATED:20240624T195103Z
LAST-MODIFIED:20240624T195105Z
UID:10004587-1720260000-1720272600@nvccf.org
SUMMARY:Camp Cartwheel's After Party ~ MUST RSVP!
DESCRIPTION:
URL:https://nvccf.org/event/camp-cartwheels-after-party-must-rsvp/
LOCATION:South Las Vegas Readiness Center\, 4500 W Silverado Ranch Blvd\, Las Vegas\, NV\, 89139\, United States
CATEGORIES:Camp,Project A.R.K.,The Caring Place
ATTACH;FMTTYPE=image/jpeg:https://nvccf.org/wp-content/uploads/2024/06/Camp-Cartwheel-After-Party-FINAL.jpg
ORGANIZER;CN="Martha Gonzalez":MAILTO:martha@nvccf.org
END:VEVENT
BEGIN:VEVENT
DTSTART;TZID=America/Los_Angeles:20230625T110000
DTEND;TZID=America/Los_Angeles:20230625T140000
DTSTAMP:20260419T105332
CREATED:20230616T170538Z
LAST-MODIFIED:20230616T170538Z
UID:10004369-1687690800-1687701600@nvccf.org
SUMMARY:
DESCRIPTION:
URL:https://nvccf.org/event/13375/
LOCATION:South Las Vegas Readiness Center\, 4500 W Silverado Ranch Blvd\, Las Vegas\, NV\, 89139\, United States
CATEGORIES:Camp
ATTACH;FMTTYPE=image/jpeg:https://nvccf.org/wp-content/uploads/2023/06/Yearbook-Party-CC-23.jpg
ORGANIZER;CN="Brenda":MAILTO:brenda@nvccf.org
END:VEVENT
END:VCALENDAR