BEGIN:VCALENDAR
VERSION:2.0
PRODID:-//NVCCF - ECPv6.15.17.1//NONSGML v1.0//EN
CALSCALE:GREGORIAN
METHOD:PUBLISH
X-ORIGINAL-URL:https://nvccf.org
X-WR-CALDESC:Events for NVCCF
REFRESH-INTERVAL;VALUE=DURATION:PT1H
X-Robots-Tag:noindex
X-PUBLISHED-TTL:PT1H
BEGIN:VTIMEZONE
TZID:America/Los_Angeles
BEGIN:DAYLIGHT
TZOFFSETFROM:-0800
TZOFFSETTO:-0700
TZNAME:PDT
DTSTART:20240310T100000
END:DAYLIGHT
BEGIN:STANDARD
TZOFFSETFROM:-0700
TZOFFSETTO:-0800
TZNAME:PST
DTSTART:20241103T090000
END:STANDARD
BEGIN:DAYLIGHT
TZOFFSETFROM:-0800
TZOFFSETTO:-0700
TZNAME:PDT
DTSTART:20250309T100000
END:DAYLIGHT
BEGIN:STANDARD
TZOFFSETFROM:-0700
TZOFFSETTO:-0800
TZNAME:PST
DTSTART:20251102T090000
END:STANDARD
BEGIN:DAYLIGHT
TZOFFSETFROM:-0800
TZOFFSETTO:-0700
TZNAME:PDT
DTSTART:20260308T100000
END:DAYLIGHT
BEGIN:STANDARD
TZOFFSETFROM:-0700
TZOFFSETTO:-0800
TZNAME:PST
DTSTART:20261101T090000
END:STANDARD
END:VTIMEZONE
BEGIN:VEVENT
DTSTART;TZID=America/Los_Angeles:20250605T103000
DTEND;TZID=America/Los_Angeles:20250605T123000
DTSTAMP:20260419T074740
CREATED:20250527T224214Z
LAST-MODIFIED:20250527T224214Z
UID:10004877-1749119400-1749126600@nvccf.org
SUMMARY:Art with Laura ~ MUST RSVP!
DESCRIPTION:
URL:https://nvccf.org/event/art-with-laura-must-rsvp-28/
LOCATION:The Caring Place\, 3711 E Sunset Rd\, Las Vegas\, NV\, 89120\, United States
CATEGORIES:The Caring Place
ATTACH;FMTTYPE=image/jpeg:https://nvccf.org/wp-content/uploads/2025/05/Art-with-Laura-JUNE-2025.jpg
ORGANIZER;CN="Nikki":MAILTO:nikki@nvccf.org
END:VEVENT
BEGIN:VEVENT
DTSTART;TZID=America/Los_Angeles:20250605T133000
DTEND;TZID=America/Los_Angeles:20250605T150000
DTSTAMP:20260419T074740
CREATED:20250528T231713Z
LAST-MODIFIED:20250605T180025Z
UID:10004885-1749130200-1749135600@nvccf.org
SUMMARY:Woman to Woman Support Group ~ CANCELLED!
DESCRIPTION:
URL:https://nvccf.org/event/woman-to-woman-support-group-must-rsvp-90/
LOCATION:The Caring Place\, 3711 E Sunset Rd\, Las Vegas\, NV\, 89120\, United States
CATEGORIES:The Caring Place
ATTACH;FMTTYPE=image/jpeg:https://nvccf.org/wp-content/uploads/2024/08/Woman-to-Woman-2024-.jpg
ORGANIZER;CN="Nikki":MAILTO:nikki@nvccf.org
END:VEVENT
END:VCALENDAR