BEGIN:VCALENDAR
VERSION:2.0
PRODID:-//NVCCF - ECPv6.15.17.1//NONSGML v1.0//EN
CALSCALE:GREGORIAN
METHOD:PUBLISH
X-ORIGINAL-URL:https://nvccf.org
X-WR-CALDESC:Events for NVCCF
REFRESH-INTERVAL;VALUE=DURATION:PT1H
X-Robots-Tag:noindex
X-PUBLISHED-TTL:PT1H
BEGIN:VTIMEZONE
TZID:America/Los_Angeles
BEGIN:DAYLIGHT
TZOFFSETFROM:-0800
TZOFFSETTO:-0700
TZNAME:PDT
DTSTART:20240310T100000
END:DAYLIGHT
BEGIN:STANDARD
TZOFFSETFROM:-0700
TZOFFSETTO:-0800
TZNAME:PST
DTSTART:20241103T090000
END:STANDARD
BEGIN:DAYLIGHT
TZOFFSETFROM:-0800
TZOFFSETTO:-0700
TZNAME:PDT
DTSTART:20250309T100000
END:DAYLIGHT
BEGIN:STANDARD
TZOFFSETFROM:-0700
TZOFFSETTO:-0800
TZNAME:PST
DTSTART:20251102T090000
END:STANDARD
BEGIN:DAYLIGHT
TZOFFSETFROM:-0800
TZOFFSETTO:-0700
TZNAME:PDT
DTSTART:20260308T100000
END:DAYLIGHT
BEGIN:STANDARD
TZOFFSETFROM:-0700
TZOFFSETTO:-0800
TZNAME:PST
DTSTART:20261101T090000
END:STANDARD
END:VTIMEZONE
BEGIN:VEVENT
DTSTART;VALUE=DATE:20250120
DTEND;VALUE=DATE:20250121
DTSTAMP:20260422T095223
CREATED:20241213T034652Z
LAST-MODIFIED:20241213T034652Z
UID:10004744-1737331200-1737417599@nvccf.org
SUMMARY:Office CLOSED for Martin Luther King Jr. Day
DESCRIPTION:
URL:https://nvccf.org/event/office-closed-for-martin-luther-king-jr-day/
LOCATION:NVCCF and The Caring Place\, 3711 E. Sunset Rd.\, Las Vegas\, NV\, 89120\, United States
CATEGORIES:Project A.R.K.,The Caring Place
ATTACH;FMTTYPE=image/jpeg:https://nvccf.org/wp-content/uploads/2024/12/IMG_2283.jpg
ORGANIZER;CN="Nikki":MAILTO:nikki@nvccf.org
END:VEVENT
END:VCALENDAR