BEGIN:VCALENDAR
VERSION:2.0
PRODID:-//NVCCF - ECPv6.15.17.1//NONSGML v1.0//EN
CALSCALE:GREGORIAN
METHOD:PUBLISH
X-WR-CALNAME:NVCCF
X-ORIGINAL-URL:https://nvccf.org
X-WR-CALDESC:Events for NVCCF
REFRESH-INTERVAL;VALUE=DURATION:PT1H
X-Robots-Tag:noindex
X-PUBLISHED-TTL:PT1H
BEGIN:VTIMEZONE
TZID:America/Los_Angeles
BEGIN:DAYLIGHT
TZOFFSETFROM:-0800
TZOFFSETTO:-0700
TZNAME:PDT
DTSTART:20230312T100000
END:DAYLIGHT
BEGIN:STANDARD
TZOFFSETFROM:-0700
TZOFFSETTO:-0800
TZNAME:PST
DTSTART:20231105T090000
END:STANDARD
BEGIN:DAYLIGHT
TZOFFSETFROM:-0800
TZOFFSETTO:-0700
TZNAME:PDT
DTSTART:20240310T100000
END:DAYLIGHT
BEGIN:STANDARD
TZOFFSETFROM:-0700
TZOFFSETTO:-0800
TZNAME:PST
DTSTART:20241103T090000
END:STANDARD
BEGIN:DAYLIGHT
TZOFFSETFROM:-0800
TZOFFSETTO:-0700
TZNAME:PDT
DTSTART:20250309T100000
END:DAYLIGHT
BEGIN:STANDARD
TZOFFSETFROM:-0700
TZOFFSETTO:-0800
TZNAME:PST
DTSTART:20251102T090000
END:STANDARD
END:VTIMEZONE
BEGIN:VEVENT
DTSTART;TZID=America/Los_Angeles:20240626T103000
DTEND;TZID=America/Los_Angeles:20240626T113000
DTSTAMP:20260422T032034
CREATED:20240522T223605Z
LAST-MODIFIED:20240522T223605Z
UID:10004584-1719397800-1719401400@nvccf.org
SUMMARY:Yoga with Kitty ~ MUST RSVP!
DESCRIPTION:
URL:https://nvccf.org/event/yoga-with-kitty-must-rsvp-41/
LOCATION:The Caring Place\, 3711 E Sunset Rd\, Las Vegas\, NV\, 89120\, United States
CATEGORIES:The Caring Place
ATTACH;FMTTYPE=image/jpeg:https://nvccf.org/wp-content/uploads/2024/01/yoga-revised2024.jpg
ORGANIZER;CN="Nikki":MAILTO:nikki@nvccf.org
END:VEVENT
BEGIN:VEVENT
DTSTART;TZID=America/Los_Angeles:20240626T114500
DTEND;TZID=America/Los_Angeles:20240626T124500
DTSTAMP:20260422T032034
CREATED:20240520T195115Z
LAST-MODIFIED:20240520T195115Z
UID:10004555-1719402300-1719405900@nvccf.org
SUMMARY:Violin Sound Healings ~ MUST RSVP!
DESCRIPTION:
URL:https://nvccf.org/event/violin-sound-healings-must-rsvp-13/
LOCATION:The Caring Place\, 3711 E Sunset Rd\, Las Vegas\, NV\, 89120\, United States
CATEGORIES:The Caring Place
ATTACH;FMTTYPE=image/jpeg:https://nvccf.org/wp-content/uploads/2024/05/Violin-Flyer-6-24.jpg
ORGANIZER;CN="Nikki":MAILTO:nikki@nvccf.org
END:VEVENT
BEGIN:VEVENT
DTSTART;TZID=America/Los_Angeles:20240626T130000
DTEND;TZID=America/Los_Angeles:20240626T150000
DTSTAMP:20260422T032034
CREATED:20240520T194215Z
LAST-MODIFIED:20240612T195842Z
UID:10004554-1719406800-1719414000@nvccf.org
SUMMARY:Pink Beaded Bracelets for Our Annual Pink Tee ~ CANCELLED!
DESCRIPTION:
URL:https://nvccf.org/event/pink-beaded-bracelets-for-our-annual-pink-tee-must-rsvp/
LOCATION:The Caring Place\, 3711 E Sunset Rd\, Las Vegas\, NV\, 89120\, United States
CATEGORIES:The Caring Place
ATTACH;FMTTYPE=image/jpeg:https://nvccf.org/wp-content/uploads/2024/05/pink-tee-JUNE-2024-beads.jpg
ORGANIZER;CN="Nikki":MAILTO:nikki@nvccf.org
END:VEVENT
END:VCALENDAR