BEGIN:VCALENDAR
VERSION:2.0
PRODID:-//NVCCF - ECPv6.15.17.1//NONSGML v1.0//EN
CALSCALE:GREGORIAN
METHOD:PUBLISH
X-WR-CALNAME:NVCCF
X-ORIGINAL-URL:https://nvccf.org
X-WR-CALDESC:Events for NVCCF
REFRESH-INTERVAL;VALUE=DURATION:PT1H
X-Robots-Tag:noindex
X-PUBLISHED-TTL:PT1H
BEGIN:VTIMEZONE
TZID:America/Los_Angeles
BEGIN:DAYLIGHT
TZOFFSETFROM:-0800
TZOFFSETTO:-0700
TZNAME:PDT
DTSTART:20230312T100000
END:DAYLIGHT
BEGIN:STANDARD
TZOFFSETFROM:-0700
TZOFFSETTO:-0800
TZNAME:PST
DTSTART:20231105T090000
END:STANDARD
BEGIN:DAYLIGHT
TZOFFSETFROM:-0800
TZOFFSETTO:-0700
TZNAME:PDT
DTSTART:20240310T100000
END:DAYLIGHT
BEGIN:STANDARD
TZOFFSETFROM:-0700
TZOFFSETTO:-0800
TZNAME:PST
DTSTART:20241103T090000
END:STANDARD
BEGIN:DAYLIGHT
TZOFFSETFROM:-0800
TZOFFSETTO:-0700
TZNAME:PDT
DTSTART:20250309T100000
END:DAYLIGHT
BEGIN:STANDARD
TZOFFSETFROM:-0700
TZOFFSETTO:-0800
TZNAME:PST
DTSTART:20251102T090000
END:STANDARD
END:VTIMEZONE
BEGIN:VEVENT
DTSTART;TZID=America/Los_Angeles:20240117T103000
DTEND;TZID=America/Los_Angeles:20240117T113000
DTSTAMP:20260425T051940
CREATED:20231212T003934Z
LAST-MODIFIED:20231212T003934Z
UID:10004482-1705487400-1705491000@nvccf.org
SUMMARY:Yoga with Kitty ~ MUST RSVP!
DESCRIPTION:
URL:https://nvccf.org/event/yoga-with-kitty-must-rsvp-21/
LOCATION:The Caring Place\, 3711 E Sunset Rd\, Las Vegas\, NV\, 89120\, United States
CATEGORIES:The Caring Place
ATTACH;FMTTYPE=image/jpeg:https://nvccf.org/wp-content/uploads/2021/06/yoga-revised2021.jpg
ORGANIZER;CN="Nikki":MAILTO:nikki@nvccf.org
END:VEVENT
BEGIN:VEVENT
DTSTART;TZID=America/Los_Angeles:20240117T114500
DTEND;TZID=America/Los_Angeles:20240117T124500
DTSTAMP:20260425T051940
CREATED:20231122T000305Z
LAST-MODIFIED:20231122T000305Z
UID:10004476-1705491900-1705495500@nvccf.org
SUMMARY:Violin Sound Healings ~ MUST RSVP!
DESCRIPTION:
URL:https://nvccf.org/event/violin-sound-healings-must-rsvp-5/
LOCATION:The Caring Place\, 3711 E Sunset Rd\, Las Vegas\, NV\, 89120\, United States
CATEGORIES:The Caring Place
ATTACH;FMTTYPE=image/jpeg:https://nvccf.org/wp-content/uploads/2023/11/Violin-Flyer-1-24.jpg
ORGANIZER;CN="Nikki":MAILTO:nikki@nvccf.org
END:VEVENT
END:VCALENDAR