BEGIN:VCALENDAR
VERSION:2.0
PRODID:-//NVCCF - ECPv6.15.17.1//NONSGML v1.0//EN
CALSCALE:GREGORIAN
METHOD:PUBLISH
X-ORIGINAL-URL:https://nvccf.org
X-WR-CALDESC:Events for NVCCF
REFRESH-INTERVAL;VALUE=DURATION:PT1H
X-Robots-Tag:noindex
X-PUBLISHED-TTL:PT1H
BEGIN:VTIMEZONE
TZID:America/Los_Angeles
BEGIN:DAYLIGHT
TZOFFSETFROM:-0800
TZOFFSETTO:-0700
TZNAME:PDT
DTSTART:20220313T100000
END:DAYLIGHT
BEGIN:STANDARD
TZOFFSETFROM:-0700
TZOFFSETTO:-0800
TZNAME:PST
DTSTART:20221106T090000
END:STANDARD
BEGIN:DAYLIGHT
TZOFFSETFROM:-0800
TZOFFSETTO:-0700
TZNAME:PDT
DTSTART:20230312T100000
END:DAYLIGHT
BEGIN:STANDARD
TZOFFSETFROM:-0700
TZOFFSETTO:-0800
TZNAME:PST
DTSTART:20231105T090000
END:STANDARD
BEGIN:DAYLIGHT
TZOFFSETFROM:-0800
TZOFFSETTO:-0700
TZNAME:PDT
DTSTART:20240310T100000
END:DAYLIGHT
BEGIN:STANDARD
TZOFFSETFROM:-0700
TZOFFSETTO:-0800
TZNAME:PST
DTSTART:20241103T090000
END:STANDARD
END:VTIMEZONE
BEGIN:VEVENT
DTSTART;TZID=America/Los_Angeles:20230325T110000
DTEND;TZID=America/Los_Angeles:20230325T123000
DTSTAMP:20260423T040703
CREATED:20230226T225549Z
LAST-MODIFIED:20230226T225549Z
UID:10004205-1679742000-1679747400@nvccf.org
SUMMARY:Multiple Myeloma Support Group ~ VIRTUAL
DESCRIPTION:
URL:https://nvccf.org/event/multiple-myeloma-support-group-virtual-39/
LOCATION:Virtual from Home
CATEGORIES:The Caring Place
ATTACH;FMTTYPE=image/jpeg:https://nvccf.org/wp-content/uploads/2021/01/Multiple-Myeloma-Support-Group.jpg
ORGANIZER;CN="Nikki":MAILTO:nikki@nvccf.org
END:VEVENT
END:VCALENDAR